BEGIN:VCALENDAR
VERSION:2.0
PRODID:-//Sabre//Sabre VObject 4.5.8//EN
CALSCALE:GREGORIAN
BEGIN:VEVENT
UID:sabre-vobject-7018feb3-d168-4bfc-9b82-9b3b9b5dddfc
DTSTAMP:20260422T082400Z
SUMMARY:Children’s Festival
DESCRIPTION:Children&rsquo\;s Festival at the Festival Fields\n
X-ALT-DESC:FMTTYPE=text/html:<!DOCTYPE HTML PUBLIC "-//W3C//DTD HTML 3.2//E
 N"><HTML><p>Children&rsquo\;s Festival at the Festival Fields</p>\n</HTML>
CREATED;TZID=America/Chicago:20180315T101953
URL;VALUE=URI:https://rucker.armymwr.com/calendar/event
DTSTART;TZID=America/Chicago:20180324T130000
DTEND;TZID=America/Chicago:20180324T160000
SEQUENCE:0
END:VEVENT
END:VCALENDAR
