BEGIN:VCALENDAR
VERSION:2.0
PRODID:-//Sabre//Sabre VObject 4.5.8//EN
CALSCALE:GREGORIAN
BEGIN:VEVENT
UID:sabre-vobject-7d65991a-0319-4419-bf1a-72eadf5be65e
DTSTAMP:20260419T221022Z
SUMMARY:Intramural Volleyball Coaches Meeting
DESCRIPTION:Intramural Volleyball Coaches Meeting\n
X-ALT-DESC:FMTTYPE=text/html:<!DOCTYPE HTML PUBLIC "-//W3C//DTD HTML 3.2//E
 N"><HTML><p>Intramural Volleyball Coaches Meeting</p>\n</HTML>
CREATED;TZID=America/Chicago:20180205T112313
URL;VALUE=URI:https://rucker.armymwr.com/calendar/event
DTSTART;TZID=America/Chicago:20180814T093000
DTEND;TZID=America/Chicago:20180814T103000
SEQUENCE:0
END:VEVENT
BEGIN:VEVENT
UID:sabre-vobject-d2c73545-2cfa-4427-ba4d-d71b5c098124
DTSTAMP:20260419T221022Z
SUMMARY:Intramural Volleyball Coaches Meeting
DESCRIPTION:Intramural Volleyball Coaches Meeting\n
X-ALT-DESC:FMTTYPE=text/html:<!DOCTYPE HTML PUBLIC "-//W3C//DTD HTML 3.2//E
 N"><HTML><p>Intramural Volleyball Coaches Meeting</p>\n</HTML>
CREATED;TZID=America/Chicago:20180205T112313
URL;VALUE=URI:https://rucker.armymwr.com/calendar/event
DTSTART;TZID=America/Chicago:20180814T173000
DTEND;TZID=America/Chicago:20180814T183000
SEQUENCE:1
END:VEVENT
BEGIN:VEVENT
UID:sabre-vobject-1ce76fb7-0bd9-46d9-b1d9-43f7658b717d
DTSTAMP:20260419T221022Z
SUMMARY:Intramural Volleyball Coaches Meeting
DESCRIPTION:Intramural Volleyball Coaches Meeting\n
X-ALT-DESC:FMTTYPE=text/html:<!DOCTYPE HTML PUBLIC "-//W3C//DTD HTML 3.2//E
 N"><HTML><p>Intramural Volleyball Coaches Meeting</p>\n</HTML>
CREATED;TZID=America/Chicago:20180205T112313
URL;VALUE=URI:https://rucker.armymwr.com/calendar/event
DTSTART;TZID=America/Chicago:20180816T093000
DTEND;TZID=America/Chicago:20180816T103000
SEQUENCE:2
END:VEVENT
BEGIN:VEVENT
UID:sabre-vobject-8a5b783c-28e0-47d3-a1d0-d359172f6d39
DTSTAMP:20260419T221022Z
SUMMARY:Intramural Volleyball Coaches Meeting
DESCRIPTION:Intramural Volleyball Coaches Meeting\n
X-ALT-DESC:FMTTYPE=text/html:<!DOCTYPE HTML PUBLIC "-//W3C//DTD HTML 3.2//E
 N"><HTML><p>Intramural Volleyball Coaches Meeting</p>\n</HTML>
CREATED;TZID=America/Chicago:20180205T112313
URL;VALUE=URI:https://rucker.armymwr.com/calendar/event
DTSTART;TZID=America/Chicago:20180816T173000
DTEND;TZID=America/Chicago:20180816T183000
SEQUENCE:3
END:VEVENT
END:VCALENDAR
