BEGIN:VCALENDAR
VERSION:2.0
PRODID:-//Sabre//Sabre VObject 4.5.8//EN
CALSCALE:GREGORIAN
BEGIN:VEVENT
UID:sabre-vobject-5c25d639-3b91-4042-8238-de7ce3ecbecc
DTSTAMP:20260420T033408Z
SUMMARY:Flag Football Coaches Meeting
DESCRIPTION:Flag Football Coaches Meeting\n
X-ALT-DESC:FMTTYPE=text/html:<!DOCTYPE HTML PUBLIC "-//W3C//DTD HTML 3.2//E
 N"><HTML><p>Flag Football Coaches Meeting</p>\n</HTML>
CREATED;TZID=America/Chicago:20180205T111546
URL;VALUE=URI:https://rucker.armymwr.com/calendar/event
DTSTART;TZID=America/Chicago:20180821T093000
DTEND;TZID=America/Chicago:20180821T103000
SEQUENCE:0
END:VEVENT
BEGIN:VEVENT
UID:sabre-vobject-ee708913-3928-4ec4-b8d3-c70cb16a17cc
DTSTAMP:20260420T033408Z
SUMMARY:Flag Football Coaches Meeting
DESCRIPTION:Flag Football Coaches Meeting\n
X-ALT-DESC:FMTTYPE=text/html:<!DOCTYPE HTML PUBLIC "-//W3C//DTD HTML 3.2//E
 N"><HTML><p>Flag Football Coaches Meeting</p>\n</HTML>
CREATED;TZID=America/Chicago:20180205T111546
URL;VALUE=URI:https://rucker.armymwr.com/calendar/event
DTSTART;TZID=America/Chicago:20180821T173000
DTEND;TZID=America/Chicago:20180821T183000
SEQUENCE:1
END:VEVENT
BEGIN:VEVENT
UID:sabre-vobject-d43ea67c-93d4-4248-9add-4b19bfbb4e18
DTSTAMP:20260420T033408Z
SUMMARY:Flag Football Coaches Meeting
DESCRIPTION:Flag Football Coaches Meeting\n
X-ALT-DESC:FMTTYPE=text/html:<!DOCTYPE HTML PUBLIC "-//W3C//DTD HTML 3.2//E
 N"><HTML><p>Flag Football Coaches Meeting</p>\n</HTML>
CREATED;TZID=America/Chicago:20180205T111546
URL;VALUE=URI:https://rucker.armymwr.com/calendar/event
DTSTART;TZID=America/Chicago:20180823T093000
DTEND;TZID=America/Chicago:20180823T103000
SEQUENCE:2
END:VEVENT
BEGIN:VEVENT
UID:sabre-vobject-5c82baeb-aa2d-4a83-aca8-344e4b87f500
DTSTAMP:20260420T033408Z
SUMMARY:Flag Football Coaches Meeting
DESCRIPTION:Flag Football Coaches Meeting\n
X-ALT-DESC:FMTTYPE=text/html:<!DOCTYPE HTML PUBLIC "-//W3C//DTD HTML 3.2//E
 N"><HTML><p>Flag Football Coaches Meeting</p>\n</HTML>
CREATED;TZID=America/Chicago:20180205T111546
URL;VALUE=URI:https://rucker.armymwr.com/calendar/event
DTSTART;TZID=America/Chicago:20180823T173000
DTEND;TZID=America/Chicago:20180823T183000
SEQUENCE:3
END:VEVENT
END:VCALENDAR
