BEGIN:VCALENDAR
VERSION:2.0
PRODID:-//Sabre//Sabre VObject 4.5.8//EN
CALSCALE:GREGORIAN
BEGIN:VEVENT
UID:sabre-vobject-fedc6539-abd9-4581-8b34-1563dc9d9ec3
DTSTAMP:20260422T070510Z
SUMMARY:Youth Center Basketball Tournament
DESCRIPTION:Youth Center Basketball Tournament\n
X-ALT-DESC:FMTTYPE=text/html:<!DOCTYPE HTML PUBLIC "-//W3C//DTD HTML 3.2//E
 N"><HTML><p>Youth Center Basketball Tournament<o:p></o:p></p>\n</HTML>
CREATED;TZID=America/Chicago:20180209T111401
URL;VALUE=URI:https://rucker.armymwr.com/calendar/event
DTSTART;TZID=America/Chicago:20180414T160000
DTEND;TZID=America/Chicago:20180414T170000
SEQUENCE:0
END:VEVENT
END:VCALENDAR
