BEGIN:VCALENDAR
VERSION:2.0
PRODID:-//Sabre//Sabre VObject 4.5.8//EN
CALSCALE:GREGORIAN
BEGIN:VEVENT
UID:sabre-vobject-3cf405e8-27fb-4a84-acbd-fd7330b9c7ef
DTSTAMP:20260422T184656Z
SUMMARY:Spring Break at the Youth Center
DESCRIPTION:Spring Break at the Youth Center\n
X-ALT-DESC:FMTTYPE=text/html:<!DOCTYPE HTML PUBLIC "-//W3C//DTD HTML 3.2//E
 N"><HTML><p>Spring Break at the Youth Center</p>\n</HTML>
CREATED;TZID=America/Chicago:20180129T125403
URL;VALUE=URI:https://rucker.armymwr.com/calendar/event
DTSTART;TZID=America/Chicago:20180326T000000
DTEND;TZID=America/Chicago:20180330T235959
SEQUENCE:0
END:VEVENT
END:VCALENDAR
