BEGIN:VCALENDAR
VERSION:2.0
PRODID:-//Sabre//Sabre VObject 4.5.8//EN
CALSCALE:GREGORIAN
BEGIN:VEVENT
UID:sabre-vobject-834afb47-e3a9-4b86-9b22-de0ac9b717ac
DTSTAMP:20260423T182432Z
SUMMARY:Super Bowl Party
DESCRIPTION:Super Bowl Party at Mother Rucker&#39\;s\n
X-ALT-DESC:FMTTYPE=text/html:<!DOCTYPE HTML PUBLIC "-//W3C//DTD HTML 3.2//E
 N"><HTML><p>Super Bowl Party at Mother Rucker&#39\;s</p>\n</HTML>
CREATED;TZID=America/Chicago:20180125T082321
URL;VALUE=URI:https://rucker.armymwr.com/calendar/event
DTSTART;TZID=America/Chicago:20180204T140000
DTEND;TZID=America/Chicago:20180204T150000
SEQUENCE:0
END:VEVENT
END:VCALENDAR
