BEGIN:VCALENDAR
VERSION:2.0
PRODID:-//Sabre//Sabre VObject 4.5.8//EN
CALSCALE:GREGORIAN
BEGIN:VEVENT
UID:sabre-vobject-30406fe3-c891-4b06-ade9-db7c7f5ecead
DTSTAMP:20260422T034758Z
SUMMARY:Literature and the Veteran Experience
DESCRIPTION:Literature and the Veteran Experience\n
X-ALT-DESC:FMTTYPE=text/html:<!DOCTYPE HTML PUBLIC "-//W3C//DTD HTML 3.2//E
 N"><HTML><p>Literature and the Veteran Experience</p>\n</HTML>
CREATED;TZID=America/Chicago:20180119T121504
URL;VALUE=URI:https://rucker.armymwr.com/calendar/event
DTSTART;TZID=America/Chicago:20180206T173000
DTEND;TZID=America/Chicago:20180206T183000
SEQUENCE:0
END:VEVENT
BEGIN:VEVENT
UID:sabre-vobject-8fa69c15-eb79-4293-865c-c016705a7f68
DTSTAMP:20260422T034758Z
SUMMARY:Literature and the Veteran Experience
DESCRIPTION:Literature and the Veteran Experience\n
X-ALT-DESC:FMTTYPE=text/html:<!DOCTYPE HTML PUBLIC "-//W3C//DTD HTML 3.2//E
 N"><HTML><p>Literature and the Veteran Experience</p>\n</HTML>
CREATED;TZID=America/Chicago:20180119T121504
URL;VALUE=URI:https://rucker.armymwr.com/calendar/event
DTSTART;TZID=America/Chicago:20180306T173000
DTEND;TZID=America/Chicago:20180306T183000
SEQUENCE:1
END:VEVENT
BEGIN:VEVENT
UID:sabre-vobject-dee01d29-8faf-4bd4-aca6-b6a07ebb1d9f
DTSTAMP:20260422T034758Z
SUMMARY:Literature and the Veteran Experience
DESCRIPTION:Literature and the Veteran Experience\n
X-ALT-DESC:FMTTYPE=text/html:<!DOCTYPE HTML PUBLIC "-//W3C//DTD HTML 3.2//E
 N"><HTML><p>Literature and the Veteran Experience</p>\n</HTML>
CREATED;TZID=America/Chicago:20180119T121504
URL;VALUE=URI:https://rucker.armymwr.com/calendar/event
DTSTART;TZID=America/Chicago:20180403T173000
DTEND;TZID=America/Chicago:20180403T183000
SEQUENCE:2
END:VEVENT
END:VCALENDAR
