BEGIN:VCALENDAR
VERSION:2.0
PRODID:-//Sabre//Sabre VObject 4.5.8//EN
CALSCALE:GREGORIAN
BEGIN:VEVENT
UID:sabre-vobject-c7f1f6fb-3e11-42d6-bd99-eb7757378c9f
DTSTAMP:20260421T010110Z
SUMMARY:Fort Rucker Triathlon 2018
DESCRIPTION:Fort Rucker Triathlon 2018\n
X-ALT-DESC:FMTTYPE=text/html:<!DOCTYPE HTML PUBLIC "-//W3C//DTD HTML 3.2//E
 N"><HTML><p>Fort Rucker Triathlon 2018</p>\n</HTML>
CREATED;TZID=America/Chicago:20180209T122923
URL;VALUE=URI:https://rucker.armymwr.com/calendar/event
DTSTART;TZID=America/Chicago:20180623T070000
DTEND;TZID=America/Chicago:20180623T120000
SEQUENCE:0
END:VEVENT
END:VCALENDAR
