BEGIN:VCALENDAR
VERSION:2.0
PRODID:-//Sabre//Sabre VObject 4.5.8//EN
CALSCALE:GREGORIAN
BEGIN:VEVENT
UID:sabre-vobject-d2f835c8-d1d2-4d03-8eee-f9fb077bb5e4
DTSTAMP:20260423T025916Z
SUMMARY:Intramural Softball Coaches Meeting
DESCRIPTION:Intramural Softball Coaches Meeting\n
X-ALT-DESC:FMTTYPE=text/html:<!DOCTYPE HTML PUBLIC "-//W3C//DTD HTML 3.2//E
 N"><HTML><p>Intramural Softball Coaches Meeting</p>\n</HTML>
CREATED;TZID=America/Chicago:20180209T121330
URL;VALUE=URI:https://rucker.armymwr.com/calendar/event
DTSTART;TZID=America/Chicago:20180308T090000
DTEND;TZID=America/Chicago:20180308T100000
SEQUENCE:0
END:VEVENT
BEGIN:VEVENT
UID:sabre-vobject-d1e08290-3268-457c-9fdf-e5183b8dc48e
DTSTAMP:20260423T025916Z
SUMMARY:Intramural Softball Coaches Meeting
DESCRIPTION:Intramural Softball Coaches Meeting\n
X-ALT-DESC:FMTTYPE=text/html:<!DOCTYPE HTML PUBLIC "-//W3C//DTD HTML 3.2//E
 N"><HTML><p>Intramural Softball Coaches Meeting</p>\n</HTML>
CREATED;TZID=America/Chicago:20180209T121330
URL;VALUE=URI:https://rucker.armymwr.com/calendar/event
DTSTART;TZID=America/Chicago:20180308T173000
DTEND;TZID=America/Chicago:20180308T183000
SEQUENCE:1
END:VEVENT
END:VCALENDAR
