BEGIN:VCALENDAR
VERSION:2.0
PRODID:-//Sabre//Sabre VObject 4.5.8//EN
CALSCALE:GREGORIAN
BEGIN:VEVENT
UID:sabre-vobject-780d89fd-1e88-4297-88c4-aaf4a4aaf567
DTSTAMP:20260419T162838Z
SUMMARY:Foundation/Informal Fund Training
DESCRIPTION:Foundation/Informal Fund Training\n
X-ALT-DESC:FMTTYPE=text/html:<!DOCTYPE HTML PUBLIC "-//W3C//DTD HTML 3.2//E
 N"><HTML><p>Foundation/Informal Fund Training</p>\n</HTML>
CREATED;TZID=America/Chicago:20180209T114739
URL;VALUE=URI:https://rucker.armymwr.com/calendar/event
DTSTART;TZID=America/Chicago:20180830T081500
DTEND;TZID=America/Chicago:20180830T130000
SEQUENCE:0
END:VEVENT
END:VCALENDAR
