BEGIN:VCALENDAR
VERSION:2.0
PRODID:-//Sabre//Sabre VObject 4.5.8//EN
CALSCALE:GREGORIAN
BEGIN:VEVENT
UID:sabre-vobject-9f11141c-e108-4ed2-bfc6-cbfd472c2c55
DTSTAMP:20260422T041320Z
SUMMARY:FRG Leadership Training
DESCRIPTION:FRG Leadership Training\n
X-ALT-DESC:FMTTYPE=text/html:<!DOCTYPE HTML PUBLIC "-//W3C//DTD HTML 3.2//E
 N"><HTML><p>FRG Leadership Training</p>\n</HTML>
CREATED;TZID=America/Chicago:20180209T114859
URL;VALUE=URI:https://rucker.armymwr.com/calendar/event
DTSTART;TZID=America/Chicago:20180412T081500
DTEND;TZID=America/Chicago:20180412T130000
SEQUENCE:0
END:VEVENT
END:VCALENDAR
