BEGIN:VCALENDAR
VERSION:2.0
PRODID:-//Sabre//Sabre VObject 4.5.8//EN
CALSCALE:GREGORIAN
BEGIN:VEVENT
UID:sabre-vobject-8539edbd-dece-46d0-aea8-da8cbb4a9f17
DTSTAMP:20260421T132711Z
SUMMARY:Care Team Training
DESCRIPTION:Care Team Training\n
X-ALT-DESC:FMTTYPE=text/html:<!DOCTYPE HTML PUBLIC "-//W3C//DTD HTML 3.2//E
 N"><HTML><p>Care Team Training</p>\n</HTML>
CREATED;TZID=America/Chicago:20180209T114302
URL;VALUE=URI:https://rucker.armymwr.com/calendar/event
DTSTART;TZID=America/Chicago:20180208T083000
DTEND;TZID=America/Chicago:20180208T113000
SEQUENCE:0
END:VEVENT
BEGIN:VEVENT
UID:sabre-vobject-6c78598a-8813-48dd-8f47-69dfe14d16bd
DTSTAMP:20260421T132711Z
SUMMARY:Care Team Training
DESCRIPTION:Care Team Training\n
X-ALT-DESC:FMTTYPE=text/html:<!DOCTYPE HTML PUBLIC "-//W3C//DTD HTML 3.2//E
 N"><HTML><p>Care Team Training</p>\n</HTML>
CREATED;TZID=America/Chicago:20180209T114302
URL;VALUE=URI:https://rucker.armymwr.com/calendar/event
DTSTART;TZID=America/Chicago:20180510T083000
DTEND;TZID=America/Chicago:20180510T113000
SEQUENCE:1
END:VEVENT
END:VCALENDAR
