BEGIN:VCALENDAR
VERSION:2.0
PRODID:-//Sabre//Sabre VObject 4.5.8//EN
CALSCALE:GREGORIAN
BEGIN:VEVENT
UID:sabre-vobject-caac8876-8396-4513-9088-f81afe6459ab
DTSTAMP:20260424T100826Z
SUMMARY:Gardening by Design
DESCRIPTION:Gardening by Design\n
X-ALT-DESC:FMTTYPE=text/html:<!DOCTYPE HTML PUBLIC "-//W3C//DTD HTML 3.2//E
 N"><HTML><p>Gardening by Design</p>\n</HTML>
CREATED;TZID=America/Chicago:20171213T161714
URL;VALUE=URI:https://rucker.armymwr.com/calendar/event
DTSTART;TZID=America/Chicago:20171213T170000
DTEND;TZID=America/Chicago:20171213T183000
SEQUENCE:0
END:VEVENT
END:VCALENDAR
