BEGIN:VCALENDAR
VERSION:2.0
PRODID:-//Sabre//Sabre VObject 4.5.8//EN
CALSCALE:GREGORIAN
BEGIN:VEVENT
UID:sabre-vobject-c3bc8ae9-2932-4525-90fa-660ff349281e
DTSTAMP:20260424T100527Z
SUMMARY:Get R.E.A.L.
DESCRIPTION:Get R.E.A.L. with AFTB\n
X-ALT-DESC:FMTTYPE=text/html:<!DOCTYPE HTML PUBLIC "-//W3C//DTD HTML 3.2//E
 N"><HTML><p>Get R.E.A.L. with AFTB</p>\n</HTML>
CREATED;TZID=America/Chicago:20171114T120129
URL;VALUE=URI:https://rucker.armymwr.com/calendar/event
DTSTART;TZID=America/Chicago:20171208T083000
DTEND;TZID=America/Chicago:20171208T143000
SEQUENCE:0
END:VEVENT
END:VCALENDAR
