BEGIN:VCALENDAR
VERSION:2.0
PRODID:-//Sabre//Sabre VObject 4.5.8//EN
CALSCALE:GREGORIAN
BEGIN:VEVENT
UID:sabre-vobject-8ca056e7-65c4-45fb-ac00-f7386584f658
DTSTAMP:20260423T234501Z
SUMMARY:Upcycling Book Craft
DESCRIPTION:Upcycling Book Craft\n
X-ALT-DESC:FMTTYPE=text/html:<!DOCTYPE HTML PUBLIC "-//W3C//DTD HTML 3.2//E
 N"><HTML><p>Upcycling Book Craft</p>\n</HTML>
CREATED;TZID=America/Chicago:20180209T121020
URL;VALUE=URI:https://rucker.armymwr.com/calendar/event
DTSTART;TZID=America/Chicago:20180109T153000
DTEND;TZID=America/Chicago:20180109T173000
SEQUENCE:0
END:VEVENT
END:VCALENDAR
