BEGIN:VCALENDAR
VERSION:2.0
PRODID:-//Sabre//Sabre VObject 4.5.8//EN
CALSCALE:GREGORIAN
BEGIN:VEVENT
UID:sabre-vobject-0a5e354a-11ec-4490-aa0b-a2d9d912d620
DTSTAMP:20260423T184241Z
SUMMARY:Card Creation Workshop 
DESCRIPTION:Card Creation Workshop at the Center Library\n
X-ALT-DESC:FMTTYPE=text/html:<!DOCTYPE HTML PUBLIC "-//W3C//DTD HTML 3.2//E
 N"><HTML><p>Card Creation Workshop at the Center Library</p>\n</HTML>
CREATED;TZID=America/Chicago:20171106T123159
URL;VALUE=URI:https://rucker.armymwr.com/calendar/event
DTSTART;TZID=America/Chicago:20171202T133000
DTEND;TZID=America/Chicago:20171202T153000
SEQUENCE:0
END:VEVENT
END:VCALENDAR
