BEGIN:VCALENDAR
VERSION:2.0
PRODID:-//Sabre//Sabre VObject 4.5.8//EN
CALSCALE:GREGORIAN
BEGIN:VEVENT
UID:sabre-vobject-d5788b23-0810-43f0-aacb-03a9f06f9421
DTSTAMP:20260423T002317Z
SUMMARY:Crazy 8's Math Club
DESCRIPTION:Crazy 8&#39\;s Math Club at the Center Library\n
X-ALT-DESC:FMTTYPE=text/html:<!DOCTYPE HTML PUBLIC "-//W3C//DTD HTML 3.2//E
 N"><HTML><p>Crazy 8&#39\;s Math Club at the Center Library</p>\n</HTML>
CREATED;TZID=America/Chicago:20180110T120524
URL;VALUE=URI:https://rucker.armymwr.com/calendar/event
DTSTART;TZID=America/Chicago:20180117T160000
DTEND;TZID=America/Chicago:20180117T164500
SEQUENCE:0
END:VEVENT
END:VCALENDAR
