BEGIN:VCALENDAR
VERSION:2.0
PRODID:-//Sabre//Sabre VObject 4.5.8//EN
CALSCALE:GREGORIAN
BEGIN:VEVENT
UID:sabre-vobject-c2f4052f-5662-4efd-a0e9-0007160a8fc5
DTSTAMP:20260423T143709Z
SUMMARY:Single Parent Family Game Night
DESCRIPTION:Single Parent Family Game Night at AAFES Food Court\n
X-ALT-DESC:FMTTYPE=text/html:<!DOCTYPE HTML PUBLIC "-//W3C//DTD HTML 3.2//E
 N"><HTML><p>Single Parent Family Game Night at AAFES Food Court</p>\n</HTM
 L>
CREATED;TZID=America/Chicago:20171026T103114
URL;VALUE=URI:https://rucker.armymwr.com/calendar/event
DTSTART;TZID=America/Chicago:20171214T170000
DTEND;TZID=America/Chicago:20171214T190000
SEQUENCE:0
END:VEVENT
END:VCALENDAR
