BEGIN:VCALENDAR
VERSION:2.0
PRODID:-//Sabre//Sabre VObject 4.5.8//EN
CALSCALE:GREGORIAN
BEGIN:VEVENT
UID:sabre-vobject-cfd713ed-19d8-4f6e-9b2d-a3b804dd02fb
DTSTAMP:20260423T182440Z
SUMMARY:Mardi Gras Day Trip
DESCRIPTION:Mardi Gras Day Trip with MWR Central\n
X-ALT-DESC:FMTTYPE=text/html:<!DOCTYPE HTML PUBLIC "-//W3C//DTD HTML 3.2//E
 N"><HTML><p>Mardi Gras Day Trip with MWR Central</p>\n</HTML>
CREATED;TZID=America/Chicago:20180209T115027
URL;VALUE=URI:https://rucker.armymwr.com/calendar/event
DTSTART;TZID=America/Chicago:20180210T000000
DTEND;TZID=America/Chicago:20180210T235959
SEQUENCE:0
END:VEVENT
END:VCALENDAR
