BEGIN:VCALENDAR
VERSION:2.0
PRODID:-//Sabre//Sabre VObject 4.5.8//EN
CALSCALE:GREGORIAN
BEGIN:VEVENT
UID:sabre-vobject-1930d7bc-e04a-4701-86bf-8b3831850d98
DTSTAMP:20260423T113308Z
SUMMARY:Winter Winery Day Trip: Cancelled
DESCRIPTION:Cancelled\n
X-ALT-DESC:FMTTYPE=text/html:<!DOCTYPE HTML PUBLIC "-//W3C//DTD HTML 3.2//E
 N"><HTML><p>Cancelled</p>\n</HTML>
CREATED;TZID=America/Chicago:20171130T100702
URL;VALUE=URI:https://rucker.armymwr.com/calendar/event
DTSTART;TZID=America/Chicago:20171202T000000
DTEND;TZID=America/Chicago:20171202T235959
SEQUENCE:0
END:VEVENT
END:VCALENDAR
