BEGIN:VCALENDAR
VERSION:2.0
PRODID:-//Sabre//Sabre VObject 4.5.8//EN
CALSCALE:GREGORIAN
BEGIN:VEVENT
UID:sabre-vobject-c5fb2543-ada5-44be-b3bb-6f1da1a4b931
DTSTAMP:20260421T164345Z
SUMMARY:Two Man Buddy Bass Tournament
DESCRIPTION:Two Man Buddy Bass Tournament\n
X-ALT-DESC:FMTTYPE=text/html:<!DOCTYPE HTML PUBLIC "-//W3C//DTD HTML 3.2//E
 N"><HTML><p>Two Man Buddy Bass Tournament</p>\n</HTML>
CREATED;TZID=America/Chicago:20180209T122048
URL;VALUE=URI:https://rucker.armymwr.com/calendar/event
DTSTART;TZID=America/Chicago:20180512T060000
DTEND;TZID=America/Chicago:20180512T140000
SEQUENCE:0
END:VEVENT
END:VCALENDAR
