BEGIN:VCALENDAR
VERSION:2.0
PRODID:-//Sabre//Sabre VObject 4.5.8//EN
CALSCALE:GREGORIAN
BEGIN:VEVENT
UID:sabre-vobject-604d731b-ee5b-4c10-acab-962f0a2ee498
DTSTAMP:20260422T070512Z
SUMMARY:Youth Fishing Tournament: CANCELED
DESCRIPTION:Youth Fishing Tournament\n
X-ALT-DESC:FMTTYPE=text/html:<!DOCTYPE HTML PUBLIC "-//W3C//DTD HTML 3.2//E
 N"><HTML><p>Youth Fishing Tournament</p>\n</HTML>
CREATED;TZID=America/Chicago:20180427T155713
URL;VALUE=URI:https://rucker.armymwr.com/calendar/event
DTSTART;TZID=America/Chicago:20180428T070000
DTEND;TZID=America/Chicago:20180428T110000
SEQUENCE:0
END:VEVENT
END:VCALENDAR
