BEGIN:VCALENDAR
VERSION:2.0
PRODID:-//Sabre//Sabre VObject 4.5.8//EN
CALSCALE:GREGORIAN
BEGIN:VEVENT
UID:sabre-vobject-94661bb9-18d1-4952-b2d3-09ceb1f81f40
DTSTAMP:20260423T234458Z
SUMMARY:WWI Presentation: Alabama WWI Aces
DESCRIPTION:WWI Presentation at the Aviation Museum\n
X-ALT-DESC:FMTTYPE=text/html:<!DOCTYPE HTML PUBLIC "-//W3C//DTD HTML 3.2//E
 N"><HTML><p>WWI Presentation at the Aviation Museum</p>\n</HTML>
CREATED;TZID=America/Chicago:20180108T084855
URL;VALUE=URI:https://rucker.armymwr.com/calendar/event
DTSTART;TZID=America/Chicago:20180110T120000
DTEND;TZID=America/Chicago:20180110T130000
SEQUENCE:0
END:VEVENT
END:VCALENDAR
