BEGIN:VCALENDAR
VERSION:2.0
PRODID:-//Sabre//Sabre VObject 4.5.8//EN
CALSCALE:GREGORIAN
BEGIN:VEVENT
UID:sabre-vobject-8b7e5012-2ca5-463c-a8e7-29d49c26e065
DTSTAMP:20260422T184700Z
SUMMARY:Resilience Training
DESCRIPTION:Resilience Training\n
X-ALT-DESC:FMTTYPE=text/html:<!DOCTYPE HTML PUBLIC "-//W3C//DTD HTML 3.2//E
 N"><HTML><p>Resilience Training</p>\n</HTML>
CREATED;TZID=America/Chicago:20180209T114700
URL;VALUE=URI:https://rucker.armymwr.com/calendar/event
DTSTART;TZID=America/Chicago:20180323T083000
DTEND;TZID=America/Chicago:20180323T143000
SEQUENCE:0
END:VEVENT
BEGIN:VEVENT
UID:sabre-vobject-ff577a48-00a1-43fc-80aa-e12767dc10ea
DTSTAMP:20260422T184700Z
SUMMARY:Resilience Training
DESCRIPTION:Resilience Training\n
X-ALT-DESC:FMTTYPE=text/html:<!DOCTYPE HTML PUBLIC "-//W3C//DTD HTML 3.2//E
 N"><HTML><p>Resilience Training</p>\n</HTML>
CREATED;TZID=America/Chicago:20180209T114700
URL;VALUE=URI:https://rucker.armymwr.com/calendar/event
DTSTART;TZID=America/Chicago:20180326T083000
DTEND;TZID=America/Chicago:20180326T143000
SEQUENCE:1
END:VEVENT
END:VCALENDAR
