BEGIN:VCALENDAR
VERSION:2.0
PRODID:-//Sabre//Sabre VObject 4.5.8//EN
CALSCALE:GREGORIAN
BEGIN:VEVENT
UID:sabre-vobject-ad5eeee6-d19a-47fb-b4bc-33cbe526ded2
DTSTAMP:20260424T105958Z
SUMMARY:Teen Babysitter's Course
DESCRIPTION:Teen Babysitter&#39\;s Course\n
X-ALT-DESC:FMTTYPE=text/html:<!DOCTYPE HTML PUBLIC "-//W3C//DTD HTML 3.2//E
 N"><HTML><p>Teen Babysitter&#39\;s Course</p>\n</HTML>
CREATED;TZID=America/Chicago:20171023T081625
URL;VALUE=URI:https://rucker.armymwr.com/calendar/event
DTSTART;TZID=America/Chicago:20171220T083000
DTEND;TZID=America/Chicago:20171220T153000
SEQUENCE:0
END:VEVENT
END:VCALENDAR
