BEGIN:VCALENDAR
VERSION:2.0
PRODID:-//Sabre//Sabre VObject 4.5.8//EN
CALSCALE:GREGORIAN
BEGIN:VEVENT
UID:sabre-vobject-c157730d-6c68-4d27-b138-72bd0fbf8a36
DTSTAMP:20260422T182141Z
SUMMARY:Haunted Maze
DESCRIPTION:Haunted Maze at the Youth Center Gym\n
X-ALT-DESC:FMTTYPE=text/html:<!DOCTYPE HTML PUBLIC "-//W3C//DTD HTML 3.2//E
 N"><HTML><p>Haunted Maze at the Youth Center Gym</p>\n</HTML>
CREATED;TZID=America/Chicago:20171019T153832
URL;VALUE=URI:https://rucker.armymwr.com/calendar/event
DTSTART;TZID=America/Chicago:20171029T180000
DTEND;TZID=America/Chicago:20171031T200000
SEQUENCE:0
END:VEVENT
END:VCALENDAR
