BEGIN:VCALENDAR
VERSION:2.0
PRODID:-//Sabre//Sabre VObject 4.5.8//EN
CALSCALE:GREGORIAN
BEGIN:VEVENT
UID:sabre-vobject-0f337f64-3704-4567-a8c8-2406593a3254
DTSTAMP:20260422T154251Z
SUMMARY:Zombie Ball Cancellation
DESCRIPTION:Zombie Ball at The Landing\n
X-ALT-DESC:FMTTYPE=text/html:<!DOCTYPE HTML PUBLIC "-//W3C//DTD HTML 3.2//E
 N"><HTML><p>Zombie Ball at The Landing</p>\n</HTML>
CREATED;TZID=America/Chicago:20171018T080327
URL;VALUE=URI:https://rucker.armymwr.com/calendar/event
DTSTART;TZID=America/Chicago:20171021T080000
DTEND;TZID=America/Chicago:20171021T235500
SEQUENCE:0
END:VEVENT
END:VCALENDAR
