BEGIN:VCALENDAR
VERSION:2.0
PRODID:-//Sabre//Sabre VObject 4.5.8//EN
CALSCALE:GREGORIAN
BEGIN:VEVENT
UID:sabre-vobject-0324f104-0235-4bc8-8b36-bb17d73fc94c
DTSTAMP:20260422T154253Z
SUMMARY:Fall Hunting Incentive
DESCRIPTION:Fall Hunting Incentive at Fort Rucker\n
X-ALT-DESC:FMTTYPE=text/html:<!DOCTYPE HTML PUBLIC "-//W3C//DTD HTML 3.2//E
 N"><HTML><p>Fall Hunting Incentive at Fort Rucker</p>\n</HTML>
CREATED;TZID=America/Chicago:20171016T103329
URL;VALUE=URI:https://rucker.armymwr.com/calendar/event
DTSTART;TZID=America/Chicago:20171001T000000
DTEND;TZID=America/Chicago:20171118T235959
SEQUENCE:0
END:VEVENT
END:VCALENDAR
