BEGIN:VCALENDAR
VERSION:2.0
PRODID:-//Sabre//Sabre VObject 4.5.8//EN
CALSCALE:GREGORIAN
BEGIN:VEVENT
UID:sabre-vobject-5fa4ee20-57e7-4a7a-b0c0-c07887786030
DTSTAMP:20260422T154252Z
SUMMARY:Rucker Gold Fitness Jump Start
DESCRIPTION:Rucker Gold Fitness Jump Start at the Fortenberry-Colton Physic
 al Fitness Center\n
X-ALT-DESC:FMTTYPE=text/html:<!DOCTYPE HTML PUBLIC "-//W3C//DTD HTML 3.2//E
 N"><HTML><p>Rucker Gold Fitness Jump Start at the Fortenberry-Colton Physi
 cal Fitness Center</p>\n</HTML>
CREATED;TZID=America/Chicago:20171013T160309
URL;VALUE=URI:https://rucker.armymwr.com/calendar/event
DTSTART;TZID=America/Chicago:20171108T110000
DTEND;TZID=America/Chicago:20171108T120000
SEQUENCE:0
END:VEVENT
BEGIN:VEVENT
UID:sabre-vobject-6739c88c-eaad-4280-b7c9-4a3949d0aec0
DTSTAMP:20260422T154252Z
SUMMARY:Rucker Gold Fitness Jump Start
DESCRIPTION:Rucker Gold Fitness Jump Start at the Fortenberry-Colton Physic
 al Fitness Center\n
X-ALT-DESC:FMTTYPE=text/html:<!DOCTYPE HTML PUBLIC "-//W3C//DTD HTML 3.2//E
 N"><HTML><p>Rucker Gold Fitness Jump Start at the Fortenberry-Colton Physi
 cal Fitness Center</p>\n</HTML>
CREATED;TZID=America/Chicago:20171013T160309
URL;VALUE=URI:https://rucker.armymwr.com/calendar/event
DTSTART;TZID=America/Chicago:20171206T110000
DTEND;TZID=America/Chicago:20171206T120000
SEQUENCE:1
END:VEVENT
END:VCALENDAR
