BEGIN:VCALENDAR
VERSION:2.0
PRODID:-//Sabre//Sabre VObject 4.5.8//EN
CALSCALE:GREGORIAN
BEGIN:VEVENT
UID:sabre-vobject-3d4105d3-b244-4bab-bd81-e5d5a6258b95
DTSTAMP:20260422T031239Z
SUMMARY:Fort Rucker Teen AFAP
DESCRIPTION:Fort Rucker Teen AFAP at the Center Library\n
X-ALT-DESC:FMTTYPE=text/html:<!DOCTYPE HTML PUBLIC "-//W3C//DTD HTML 3.2//E
 N"><HTML><p>Fort Rucker Teen AFAP at the Center Library</p>\n</HTML>
CREATED;TZID=America/Chicago:20171012T145953
URL;VALUE=URI:https://rucker.armymwr.com/calendar/event
DTSTART;TZID=America/Chicago:20171017T170000
DTEND;TZID=America/Chicago:20171017T190000
SEQUENCE:0
END:VEVENT
END:VCALENDAR
