BEGIN:VCALENDAR
VERSION:2.0
PRODID:-//Sabre//Sabre VObject 4.5.8//EN
CALSCALE:GREGORIAN
BEGIN:VEVENT
UID:sabre-vobject-92f7f18c-81d7-4a45-b249-080136f33131
DTSTAMP:20260423T184242Z
SUMMARY:Trees for Troops
DESCRIPTION:Trees for Troops\n
X-ALT-DESC:FMTTYPE=text/html:<!DOCTYPE HTML PUBLIC "-//W3C//DTD HTML 3.2//E
 N"><HTML><p>Trees for Troops</p>\n</HTML>
CREATED;TZID=America/Chicago:20171115T162533
URL;VALUE=URI:https://rucker.armymwr.com/calendar/event
DTSTART;TZID=America/Chicago:20171202T080000
DTEND;TZID=America/Chicago:20171202T090000
SEQUENCE:0
END:VEVENT
END:VCALENDAR
