BEGIN:VCALENDAR
VERSION:2.0
PRODID:-//Sabre//Sabre VObject 4.5.8//EN
CALSCALE:GREGORIAN
BEGIN:VEVENT
UID:sabre-vobject-c7f02ce4-7b30-4f21-9885-5071fabdb72b
DTSTAMP:20260422T111315Z
SUMMARY:Jeoparteen 2000s Edition
DESCRIPTION:Jeoparteen 2000s Edition at the Youth Center\n
X-ALT-DESC:FMTTYPE=text/html:<!DOCTYPE HTML PUBLIC "-//W3C//DTD HTML 3.2//E
 N"><HTML><p>Jeoparteen 2000s Edition at the Youth Center</p>\n</HTML>
CREATED;TZID=America/Chicago:20170921T143411
URL;VALUE=URI:https://rucker.armymwr.com/calendar/event
DTSTART;TZID=America/Chicago:20171013T160000
DTEND;TZID=America/Chicago:20171013T170000
SEQUENCE:0
END:VEVENT
END:VCALENDAR
