BEGIN:VCALENDAR
VERSION:2.0
PRODID:-//Sabre//Sabre VObject 4.5.8//EN
CALSCALE:GREGORIAN
BEGIN:VEVENT
UID:sabre-vobject-ebad8c5a-9d93-4095-a3c6-dc176c4b332b
DTSTAMP:20260423T002205Z
SUMMARY:EFMP Focus Group
DESCRIPTION:EFMP Focus Group\n
X-ALT-DESC:FMTTYPE=text/html:<!DOCTYPE HTML PUBLIC "-//W3C//DTD HTML 3.2//E
 N"><HTML><p>EFMP Focus Group</p>\n</HTML>
CREATED;TZID=America/Chicago:20170913T134321
URL;VALUE=URI:https://rucker.armymwr.com/calendar/event
DTSTART;TZID=America/Chicago:20171016T090000
DTEND;TZID=America/Chicago:20171016T100000
SEQUENCE:0
END:VEVENT
END:VCALENDAR
