BEGIN:VCALENDAR
VERSION:2.0
PRODID:-//Sabre//Sabre VObject 4.5.8//EN
CALSCALE:GREGORIAN
BEGIN:VEVENT
UID:sabre-vobject-252cf477-1227-4760-a792-4668c22efc4e
DTSTAMP:20260421T010717Z
SUMMARY: Stars and Strikes
DESCRIPTION:Rucker Lanes\n
X-ALT-DESC:FMTTYPE=text/html:<!DOCTYPE HTML PUBLIC "-//W3C//DTD HTML 3.2//E
 N"><HTML><p>Rucker Lanes</p>\n</HTML>
CREATED;TZID=America/Chicago:20180410T132816
URL;VALUE=URI:https://rucker.armymwr.com/calendar/event
DTSTART;TZID=America/Chicago:20180617T110000
DTEND;TZID=America/Chicago:20180617T210000
SEQUENCE:0
END:VEVENT
END:VCALENDAR
