BEGIN:VCALENDAR
VERSION:2.0
PRODID:-//Sabre//Sabre VObject 4.5.8//EN
CALSCALE:GREGORIAN
BEGIN:VEVENT
UID:sabre-vobject-e779da0e-1ba6-47b6-8f10-fdc5b27e3c04
DTSTAMP:20260423T002154Z
SUMMARY:Thanksgiving Craft
DESCRIPTION:Thanksgiving Craft with Center Library\n
X-ALT-DESC:FMTTYPE=text/html:<!DOCTYPE HTML PUBLIC "-//W3C//DTD HTML 3.2//E
 N"><HTML><p>Thanksgiving Craft with Center Library</p>\n</HTML>
CREATED;TZID=America/Chicago:20170913T134321
URL;VALUE=URI:https://rucker.armymwr.com/calendar/event
DTSTART;TZID=America/Chicago:20171114T153000
DTEND;TZID=America/Chicago:20171114T163000
SEQUENCE:0
END:VEVENT
END:VCALENDAR
