BEGIN:VCALENDAR
VERSION:2.0
PRODID:-//Sabre//Sabre VObject 4.5.8//EN
CALSCALE:GREGORIAN
BEGIN:VEVENT
UID:sabre-vobject-11d5080f-3d9c-4fcb-a638-f305cf22b90d
DTSTAMP:20260421T203112Z
SUMMARY:Auburn Football Day Trip
DESCRIPTION:Auburn vs. Ole Miss Day Trip with MWR Central\n
X-ALT-DESC:FMTTYPE=text/html:<!DOCTYPE HTML PUBLIC "-//W3C//DTD HTML 3.2//E
 N"><HTML><p>Auburn vs. Ole Miss Day Trip with MWR Central</p>\n</HTML>
CREATED;TZID=America/Chicago:20170913T134321
URL;VALUE=URI:https://rucker.armymwr.com/calendar/event
DTSTART;TZID=America/Chicago:20171007T150000
DTEND;TZID=America/Chicago:20171007T160000
SEQUENCE:0
END:VEVENT
END:VCALENDAR
