BEGIN:VCALENDAR
VERSION:2.0
PRODID:-//Sabre//Sabre VObject 4.5.8//EN
CALSCALE:GREGORIAN
BEGIN:VEVENT
UID:sabre-vobject-62a745c7-ab90-487f-bb59-f754d3100987
DTSTAMP:20260423T070047Z
SUMMARY:School Age Center Open Recreation
DESCRIPTION:School Age Center Open Recreation December\n
X-ALT-DESC:FMTTYPE=text/html:<!DOCTYPE HTML PUBLIC "-//W3C//DTD HTML 3.2//E
 N"><HTML><p>School Age Center Open Recreation December</p>\n</HTML>
CREATED;TZID=America/Chicago:20170913T134321
URL;VALUE=URI:https://rucker.armymwr.com/calendar/event
DTSTART;TZID=America/Chicago:20171202T120000
DTEND;TZID=America/Chicago:20171202T163000
SEQUENCE:0
END:VEVENT
END:VCALENDAR
