BEGIN:VCALENDAR
VERSION:2.0
PRODID:-//Sabre//Sabre VObject 4.5.8//EN
CALSCALE:GREGORIAN
BEGIN:VEVENT
UID:sabre-vobject-9b5357c4-f75d-4648-b73c-8da0d04009c4
DTSTAMP:20260423T232110Z
SUMMARY:Skate Night: Winter Wonderland
DESCRIPTION:Skate Night: Winter Wonderland at the School Age Center\n
X-ALT-DESC:FMTTYPE=text/html:<!DOCTYPE HTML PUBLIC "-//W3C//DTD HTML 3.2//E
 N"><HTML><p>Skate Night: Winter Wonderland at the School Age Center</p>\n<
 /HTML>
CREATED;TZID=America/Chicago:20171102T085846
URL;VALUE=URI:https://rucker.armymwr.com/calendar/event
DTSTART;TZID=America/Chicago:20171215T170000
DTEND;TZID=America/Chicago:20171215T200000
SEQUENCE:0
END:VEVENT
END:VCALENDAR
