BEGIN:VCALENDAR
VERSION:2.0
PRODID:-//Sabre//Sabre VObject 4.5.8//EN
CALSCALE:GREGORIAN
BEGIN:VEVENT
UID:sabre-vobject-0c60fbde-db96-4f9d-b715-29c5b7d8975e
DTSTAMP:20260422T094301Z
SUMMARY:Skate Night: Football Theme
DESCRIPTION:Skate Night: Football Theme at the School Age Center\n
X-ALT-DESC:FMTTYPE=text/html:<!DOCTYPE HTML PUBLIC "-//W3C//DTD HTML 3.2//E
 N"><HTML><p>Skate Night: Football Theme at the School Age Center</p>\n</HT
 ML>
CREATED;TZID=America/Chicago:20170913T134321
URL;VALUE=URI:https://rucker.armymwr.com/calendar/event
DTSTART;TZID=America/Chicago:20171020T170000
DTEND;TZID=America/Chicago:20171020T200000
SEQUENCE:0
END:VEVENT
END:VCALENDAR
