BEGIN:VCALENDAR
VERSION:2.0
PRODID:-//Sabre//Sabre VObject 4.5.8//EN
CALSCALE:GREGORIAN
BEGIN:VEVENT
UID:sabre-vobject-e3cf8baa-e167-4366-b12b-3acc1d41c0ae
DTSTAMP:20260422T031238Z
SUMMARY:Gold Star Mother's & Family Day Luminary Service
DESCRIPTION:Gold Star Mother&#39\;s and Family Day Luminary Service\n
X-ALT-DESC:FMTTYPE=text/html:<!DOCTYPE HTML PUBLIC "-//W3C//DTD HTML 3.2//E
 N"><HTML><p>Gold Star Mother&#39\;s and Family Day Luminary Service</p>\n<
 /HTML>
CREATED;TZID=America/Chicago:20170913T134320
URL;VALUE=URI:https://rucker.armymwr.com/calendar/event
DTSTART;TZID=America/Chicago:20170924T180000
DTEND;TZID=America/Chicago:20170924T190000
SEQUENCE:0
END:VEVENT
END:VCALENDAR
