BEGIN:VCALENDAR
VERSION:2.0
PRODID:-//Sabre//Sabre VObject 4.5.8//EN
CALSCALE:GREGORIAN
BEGIN:VEVENT
UID:sabre-vobject-66c34f6b-b4f3-48f2-8208-1a444e4b4c51
DTSTAMP:20260422T184719Z
SUMMARY:School Age Center Open Recreation
DESCRIPTION:School Age Center Open Recreation\n
X-ALT-DESC:FMTTYPE=text/html:<!DOCTYPE HTML PUBLIC "-//W3C//DTD HTML 3.2//E
 N"><HTML><p>School Age Center Open Recreation</p>\n</HTML>
CREATED;TZID=America/Chicago:20170913T134320
URL;VALUE=URI:https://rucker.armymwr.com/calendar/event
DTSTART;TZID=America/Chicago:20170909T120000
DTEND;TZID=America/Chicago:20170909T163000
SEQUENCE:0
END:VEVENT
END:VCALENDAR
