BEGIN:VCALENDAR
VERSION:2.0
PRODID:-//Sabre//Sabre VObject 4.5.8//EN
CALSCALE:GREGORIAN
BEGIN:VEVENT
UID:sabre-vobject-45207f90-1ef4-475b-8847-0ab608fe00a6
DTSTAMP:20260422T141037Z
SUMMARY:Trick or Treating on Post
DESCRIPTION:Halloween\n
X-ALT-DESC:FMTTYPE=text/html:<!DOCTYPE HTML PUBLIC "-//W3C//DTD HTML 3.2//E
 N"><HTML><p>Halloween</p>\n</HTML>
CREATED;TZID=America/Chicago:20170913T134320
URL;VALUE=URI:https://rucker.armymwr.com/calendar/event
DTSTART;TZID=America/Chicago:20171031T180000
DTEND;TZID=America/Chicago:20171031T200000
SEQUENCE:0
END:VEVENT
END:VCALENDAR
