BEGIN:VCALENDAR
VERSION:2.0
PRODID:-//Sabre//Sabre VObject 4.5.8//EN
CALSCALE:GREGORIAN
BEGIN:VEVENT
UID:sabre-vobject-a8eab07e-cce0-4852-ab50-2324377ef43a
DTSTAMP:20260422T110155Z
SUMMARY:Fall Carnival 
DESCRIPTION:Fall Carnival\n
X-ALT-DESC:FMTTYPE=text/html:<!DOCTYPE HTML PUBLIC "-//W3C//DTD HTML 3.2//E
 N"><HTML><p>Fall Carnival</p>\n</HTML>
CREATED;TZID=America/Chicago:20171005T110234
URL;VALUE=URI:https://rucker.armymwr.com/calendar/event
DTSTART;TZID=America/Chicago:20171024T160000
DTEND;TZID=America/Chicago:20171024T180000
SEQUENCE:0
END:VEVENT
END:VCALENDAR
