BEGIN:VCALENDAR
VERSION:2.0
PRODID:-//Sabre//Sabre VObject 4.5.8//EN
CALSCALE:GREGORIAN
BEGIN:VEVENT
UID:sabre-vobject-e67d436a-4cd4-40ba-b6e4-0a581e733ab1
DTSTAMP:20260423T002320Z
SUMMARY:ATV & Dirt Bike Trail Ride 
DESCRIPTION:ATV &amp\; Dirt Bike Trail Ride\n
X-ALT-DESC:FMTTYPE=text/html:<!DOCTYPE HTML PUBLIC "-//W3C//DTD HTML 3.2//E
 N"><HTML><p>ATV &amp\; Dirt Bike Trail Ride</p>\n</HTML>
CREATED;TZID=America/Chicago:20171115T125614
URL;VALUE=URI:https://rucker.armymwr.com/calendar/event
DTSTART;TZID=America/Chicago:20171104T070000
DTEND;TZID=America/Chicago:20171104T130000
SEQUENCE:0
END:VEVENT
END:VCALENDAR
