BEGIN:VCALENDAR
VERSION:2.0
PRODID:-//Sabre//Sabre VObject 4.5.8//EN
CALSCALE:GREGORIAN
BEGIN:VEVENT
UID:sabre-vobject-054b303b-bdc8-46ec-9811-8b19e6ccfdf0
DTSTAMP:20260423T155301Z
SUMMARY:Celebrity Meet & Greet
DESCRIPTION:Celebrity Meet &amp\; Greet\n
X-ALT-DESC:FMTTYPE=text/html:<!DOCTYPE HTML PUBLIC "-//W3C//DTD HTML 3.2//E
 N"><HTML><p>Celebrity Meet &amp\; Greet</p>\n</HTML>
CREATED;TZID=America/Chicago:20170913T134320
URL;VALUE=URI:https://rucker.armymwr.com/calendar/event
DTSTART;TZID=America/Chicago:20170728T163000
DTEND;TZID=America/Chicago:20170728T183000
SEQUENCE:0
END:VEVENT
END:VCALENDAR
