BEGIN:VCALENDAR
VERSION:2.0
PRODID:-//Sabre//Sabre VObject 4.5.8//EN
CALSCALE:GREGORIAN
BEGIN:VEVENT
UID:sabre-vobject-49f2392e-d033-4557-8da5-2c1442950d55
DTSTAMP:20260423T184245Z
SUMMARY:Mad Scientist Workshop
DESCRIPTION:Mad Scientist Workshop\n
X-ALT-DESC:FMTTYPE=text/html:<!DOCTYPE HTML PUBLIC "-//W3C//DTD HTML 3.2//E
 N"><HTML><p>Mad Scientist Workshop</p>\n</HTML>
CREATED;TZID=America/Chicago:20170921T154143
URL;VALUE=URI:https://rucker.armymwr.com/calendar/event
DTSTART;TZID=America/Chicago:20171205T153000
DTEND;TZID=America/Chicago:20171205T173000
SEQUENCE:0
END:VEVENT
END:VCALENDAR
