BEGIN:VCALENDAR
VERSION:2.0
PRODID:-//Sabre//Sabre VObject 4.5.8//EN
CALSCALE:GREGORIAN
BEGIN:VEVENT
UID:sabre-vobject-223239db-3d47-4553-9dea-4193d6aaaa64
DTSTAMP:20260421T010112Z
SUMMARY:WWI Presentation at the Aviation Technical Library
DESCRIPTION:WWI Presentation\n
X-ALT-DESC:FMTTYPE=text/html:<!DOCTYPE HTML PUBLIC "-//W3C//DTD HTML 3.2//E
 N"><HTML><p>WWI Presentation</p>\n</HTML>
CREATED;TZID=America/Chicago:20180611T111001
URL;VALUE=URI:https://rucker.armymwr.com/calendar/event
DTSTART;TZID=America/Chicago:20180628T120000
DTEND;TZID=America/Chicago:20180628T130000
SEQUENCE:0
END:VEVENT
END:VCALENDAR
