BEGIN:VCALENDAR
VERSION:2.0
PRODID:-//Sabre//Sabre VObject 4.5.8//EN
CALSCALE:GREGORIAN
BEGIN:VEVENT
UID:sabre-vobject-3dc3b8d0-413a-406f-89df-49af4a4b530a
DTSTAMP:20260422T110151Z
SUMMARY:Start Smart Golf
DESCRIPTION:Start Smart Golf\n
X-ALT-DESC:FMTTYPE=text/html:<!DOCTYPE HTML PUBLIC "-//W3C//DTD HTML 3.2//E
 N"><HTML><p>Start Smart Golf</p>\n</HTML>
CREATED;TZID=America/Chicago:20170913T134319
URL;VALUE=URI:https://rucker.armymwr.com/calendar/event
DTSTART;TZID=America/Chicago:20170814T171500
DTEND;TZID=America/Chicago:20170814T174500
SEQUENCE:0
END:VEVENT
BEGIN:VEVENT
UID:sabre-vobject-ccaa25c9-1d26-4420-96ee-a7ba0c391991
DTSTAMP:20260422T110151Z
SUMMARY:Start Smart Golf
DESCRIPTION:Start Smart Golf\n
X-ALT-DESC:FMTTYPE=text/html:<!DOCTYPE HTML PUBLIC "-//W3C//DTD HTML 3.2//E
 N"><HTML><p>Start Smart Golf</p>\n</HTML>
CREATED;TZID=America/Chicago:20170913T134319
URL;VALUE=URI:https://rucker.armymwr.com/calendar/event
DTSTART;TZID=America/Chicago:20170816T171500
DTEND;TZID=America/Chicago:20170816T174500
SEQUENCE:1
END:VEVENT
END:VCALENDAR
