BEGIN:VCALENDAR
VERSION:2.0
PRODID:-//Sabre//Sabre VObject 4.5.8//EN
CALSCALE:GREGORIAN
BEGIN:VEVENT
UID:sabre-vobject-26b51196-13df-4df0-87de-52a415568744
DTSTAMP:20260422T182145Z
SUMMARY:Blended Retirement System Seminar 
DESCRIPTION:Blended Retirement System Seminar\n
X-ALT-DESC:FMTTYPE=text/html:<!DOCTYPE HTML PUBLIC "-//W3C//DTD HTML 3.2//E
 N"><HTML><p>Blended Retirement System Seminar</p>\n</HTML>
CREATED;TZID=America/Chicago:20170913T134319
URL;VALUE=URI:https://rucker.armymwr.com/calendar/event
DTSTART;TZID=America/Chicago:20171114T180000
DTEND;TZID=America/Chicago:20171114T190000
SEQUENCE:0
END:VEVENT
END:VCALENDAR
