BEGIN:VCALENDAR
VERSION:2.0
PRODID:-//Sabre//Sabre VObject 4.5.8//EN
CALSCALE:GREGORIAN
BEGIN:VEVENT
UID:sabre-vobject-8a25389c-a2e6-4d40-bfa2-e4e6c1261622
DTSTAMP:20260424T221155Z
SUMMARY: Summer Reading Program Take the LEGO Challenge 
DESCRIPTION:Summer Reading Program Take the LEGO Challenge\n
X-ALT-DESC:FMTTYPE=text/html:<!DOCTYPE HTML PUBLIC "-//W3C//DTD HTML 3.2//E
 N"><HTML><p>Summer Reading Program Take the LEGO Challenge</p>\n</HTML>
CREATED;TZID=America/Chicago:20170913T134319
URL;VALUE=URI:https://rucker.armymwr.com/calendar/event
DTSTART;TZID=America/Chicago:20170706T130000
DTEND;TZID=America/Chicago:20170706T140000
SEQUENCE:0
END:VEVENT
END:VCALENDAR
